BEGIN:VCALENDAR
VERSION:2.0
PRODID:-//Cleary Company: Design Build Remodel - ECPv6.15.17//NONSGML v1.0//EN
CALSCALE:GREGORIAN
METHOD:PUBLISH
X-WR-CALNAME:Cleary Company: Design Build Remodel
X-ORIGINAL-URL:https://www.clearycompany.com
X-WR-CALDESC:Events for Cleary Company: Design Build Remodel
REFRESH-INTERVAL;VALUE=DURATION:PT1H
X-Robots-Tag:noindex
X-PUBLISHED-TTL:PT1H
BEGIN:VTIMEZONE
TZID:UTC
BEGIN:STANDARD
TZOFFSETFROM:+0000
TZOFFSETTO:+0000
TZNAME:UTC
DTSTART:20250101T000000
END:STANDARD
END:VTIMEZONE
BEGIN:VEVENT
DTSTART;TZID=UTC:20260407T120000
DTEND;TZID=UTC:20260407T160000
DTSTAMP:20260423T085107
CREATED:20260223T140256Z
LAST-MODIFIED:20260227T144449Z
UID:13325-1775563200-1775577600@www.clearycompany.com
SUMMARY:Versiti Blood Drive
DESCRIPTION:At the heart of every blood donation is a patient\, a family\, and a moment that truly matters. We invite you to join us for our Versiti Blood Drive on April 7\, 2026\, from 12:00–4:00 PM at our building. Your generosity helps ensure lifesaving blood is readily available for patients throughout our community. \nWe’d be honored to have you participate. Please click the link below to schedule your donation! \nBook My Donation \n  \n 
URL:https://www.clearycompany.com/event/versiti-blood-drive/
LOCATION:The Cleary Company\, 989 Old Henderson Rd\, Columbus\, OH\, 43220\, United States
ATTACH;FMTTYPE=image/jpeg:https://www.clearycompany.com/wp-content/uploads/2026/02/versiti-logo-4c-1.jpg
ORGANIZER;CN="The Cleary Company":MAILTO:bkorn@clearycompany.com
END:VEVENT
END:VCALENDAR